BEGIN:VCALENDAR
VERSION:2.0
PRODID:-//Lifeline Assistance Program - ECPv6.15.12.2//NONSGML v1.0//EN
CALSCALE:GREGORIAN
METHOD:PUBLISH
X-ORIGINAL-URL:https://lifelineassistance.org
X-WR-CALDESC:Events for Lifeline Assistance Program
REFRESH-INTERVAL;VALUE=DURATION:PT1H
X-Robots-Tag:noindex
X-PUBLISHED-TTL:PT1H
BEGIN:VTIMEZONE
TZID:America/Chicago
BEGIN:DAYLIGHT
TZOFFSETFROM:-0600
TZOFFSETTO:-0500
TZNAME:CDT
DTSTART:20210314T080000
END:DAYLIGHT
BEGIN:STANDARD
TZOFFSETFROM:-0500
TZOFFSETTO:-0600
TZNAME:CST
DTSTART:20211107T070000
END:STANDARD
BEGIN:DAYLIGHT
TZOFFSETFROM:-0600
TZOFFSETTO:-0500
TZNAME:CDT
DTSTART:20220313T080000
END:DAYLIGHT
BEGIN:STANDARD
TZOFFSETFROM:-0500
TZOFFSETTO:-0600
TZNAME:CST
DTSTART:20221106T070000
END:STANDARD
BEGIN:DAYLIGHT
TZOFFSETFROM:-0600
TZOFFSETTO:-0500
TZNAME:CDT
DTSTART:20230312T080000
END:DAYLIGHT
BEGIN:STANDARD
TZOFFSETFROM:-0500
TZOFFSETTO:-0600
TZNAME:CST
DTSTART:20231105T070000
END:STANDARD
END:VTIMEZONE
BEGIN:VTIMEZONE
TZID:UTC
BEGIN:STANDARD
TZOFFSETFROM:+0000
TZOFFSETTO:+0000
TZNAME:UTC
DTSTART:20200101T000000
END:STANDARD
END:VTIMEZONE
BEGIN:VEVENT
DTSTART;TZID=America/Chicago:20220331T080000
DTEND;TZID=America/Chicago:20220331T150000
DTSTAMP:20260423T051820
CREATED:20220324T130432Z
LAST-MODIFIED:20220324T154119Z
UID:3413-1648713600-1648738800@lifelineassistance.org
SUMMARY:Ashland Swap-O-Rama
DESCRIPTION:Find us at booth c41
URL:https://lifelineassistance.org/event/ashland-swap-o-rama-2022-03-31/
LOCATION:Ashland Swap-O-Rama\, 4100 S Ashland Ave\, Chicago\, IL\, 60609\, United States
CATEGORIES:Lifeline Enrollment
END:VEVENT
BEGIN:VEVENT
DTSTART;TZID=America/Chicago:20220329T080000
DTEND;TZID=America/Chicago:20220329T150000
DTSTAMP:20260423T051820
CREATED:20220324T130432Z
LAST-MODIFIED:20220324T154119Z
UID:3411-1648540800-1648566000@lifelineassistance.org
SUMMARY:Ashland Swap-O-Rama
DESCRIPTION:Find us at booth c41
URL:https://lifelineassistance.org/event/ashland-swap-o-rama-2022-03-29/
LOCATION:Ashland Swap-O-Rama\, 4100 S Ashland Ave\, Chicago\, IL\, 60609\, United States
CATEGORIES:Lifeline Enrollment
END:VEVENT
BEGIN:VEVENT
DTSTART;TZID=America/Chicago:20220327T080000
DTEND;TZID=America/Chicago:20220327T150000
DTSTAMP:20260423T051820
CREATED:20220324T130432Z
LAST-MODIFIED:20220324T154118Z
UID:3409-1648368000-1648393200@lifelineassistance.org
SUMMARY:Ashland Swap-O-Rama
DESCRIPTION:Find us at booth c41
URL:https://lifelineassistance.org/event/ashland-swap-o-rama-2022-03-27/
LOCATION:Ashland Swap-O-Rama\, 4100 S Ashland Ave\, Chicago\, IL\, 60609\, United States
CATEGORIES:Lifeline Enrollment
END:VEVENT
BEGIN:VEVENT
DTSTART;TZID=America/Chicago:20220326T080000
DTEND;TZID=America/Chicago:20220326T150000
DTSTAMP:20260423T051820
CREATED:20220324T130432Z
LAST-MODIFIED:20220324T154118Z
UID:3375-1648281600-1648306800@lifelineassistance.org
SUMMARY:Ashland Swap-O-Rama
DESCRIPTION:Find us at booth c41
URL:https://lifelineassistance.org/event/ashland-swap-o-rama/
LOCATION:Ashland Swap-O-Rama\, 4100 S Ashland Ave\, Chicago\, IL\, 60609\, United States
CATEGORIES:Lifeline Enrollment
END:VEVENT
BEGIN:VEVENT
DTSTART;TZID=UTC:20211109T120000
DTEND;TZID=UTC:20211109T180000
DTSTAMP:20260423T051820
CREATED:20211109T132647Z
LAST-MODIFIED:20211109T133718Z
UID:3163-1636459200-1636480800@lifelineassistance.org
SUMMARY:Piggly Wiggly x Your Call Wireless
DESCRIPTION:
URL:https://lifelineassistance.org/event/piggly-wiggly-x-your-call-wireless/
LOCATION:Piggly Wiggly\, 709 E Capitol Dr.\, Milwaukee\, WI\, 53212\, United States
CATEGORIES:Lifeline Enrollment
END:VEVENT
BEGIN:VEVENT
DTSTART;TZID=UTC:20211109T110000
DTEND;TZID=UTC:20211109T180000
DTSTAMP:20260423T051820
CREATED:20211109T110707Z
LAST-MODIFIED:20211109T113753Z
UID:3148-1636455600-1636480800@lifelineassistance.org
SUMMARY:Beauty Palace x Your Call Wireless
DESCRIPTION:
URL:https://lifelineassistance.org/event/beauty-palace-x-your-call-wireless/
LOCATION:Beauty Palace\, 709 E Capitol Dr.\, Milwaukee\, WI\, 53212\, United States
CATEGORIES:Lifeline Enrollment
ORGANIZER;CN="Lifeline Assistance Program LLC":MAILTO:lap@lifelineassistance.org
END:VEVENT
END:VCALENDAR